BEGIN:VCALENDAR
VERSION:2.0
PRODID:hinto.net
X-PUBLISHED-TTL:P1W
BEGIN:VEVENT
UID:hinto.net-event_show-6884782
DTSTART:20260518T200000
SEQUENCE:0
CREATED:20260404T234634
LAST-MODIFIED:20260404T234634
TRANSP:OPAQUE
DTEND:20260518T220000
LOCATION:Theater Uri
SUMMARY:Ursus & Nadeschkin
CLASS:PUBLIC
DESCRIPTION:
ORGANIZER:
DTSTAMP:20260424T214446
ATTACH:https://www.hinto.ch/de/events/ursus-nadeschkin-18-05-2026-2000-theater-uri-altdorf-ur-e2811401-20.html
END:VEVENT
END:VCALENDAR
