BEGIN:VCALENDAR
VERSION:2.0
PRODID:hinto.net
X-PUBLISHED-TTL:P1W
BEGIN:VEVENT
UID:hinto.net-event_show-6930014
DTSTART:20260516T120000
SEQUENCE:0
CREATED:20260420T222347
LAST-MODIFIED:20260420T222347
TRANSP:OPAQUE

LOCATION:Werkstatt Chur
SUMMARY:Vino & Vinyl
CLASS:PUBLIC
DESCRIPTION:
ORGANIZER:
DTSTAMP:20260421T083134
ATTACH:https://www.hinto.ch/de/events/vino-vinyl-16-05-2026-1200-werkstatt-chur-chur-e2851841-20.html
END:VEVENT
END:VCALENDAR
