BEGIN:VCALENDAR
VERSION:2.0
PRODID:hinto.net
X-PUBLISHED-TTL:P1W
BEGIN:VEVENT
UID:hinto.net-event_show-6904335
DTSTART:20260426T100000
SEQUENCE:0
CREATED:20260412T054236
LAST-MODIFIED:20260412T054236
TRANSP:OPAQUE

LOCATION:Musée du Ski - Le Boéchet
SUMMARY:Visite guidée publique
CLASS:PUBLIC
DESCRIPTION:
ORGANIZER:
DTSTAMP:20260419T174604
ATTACH:https://www.hinto.ch/de/events/visite-guidee-publique-26-04-2026-1000-musee-du-ski-le-boechet-les-bois-e2829415-20.html
END:VEVENT
END:VCALENDAR
