BEGIN:VCALENDAR
VERSION:2.0
PRODID:hinto.net
X-PUBLISHED-TTL:P1W
BEGIN:VEVENT
UID:hinto.net-event_show-6864247
DTSTART:20260417T180000
SEQUENCE:0
CREATED:20260330T050858
LAST-MODIFIED:20260330T050858
TRANSP:OPAQUE

LOCATION:Abbatiale
SUMMARY:Visite guidée - Victor de Mestral Combremont : du geste artistique au geste technique
CLASS:PUBLIC
DESCRIPTION:
ORGANIZER:
DTSTAMP:20260421T064022
ATTACH:https://www.hinto.ch/de/events/visite-guidee-victor-de-mestral-combremont-du-geste-artistique-au-geste-technique-17-04-2026-1800-abbatiale-payerne-e2794730-20.html
END:VEVENT
END:VCALENDAR
