BEGIN:VCALENDAR
VERSION:2.0
PRODID:hinto.net
X-PUBLISHED-TTL:P1W
BEGIN:VEVENT
UID:hinto.net-event_show-6856619
DTSTART:20260417T180000
SEQUENCE:0
CREATED:20260327T232617
LAST-MODIFIED:20260327T232617
TRANSP:OPAQUE
DTEND:20260417T190000
LOCATION:
SUMMARY:VOX: First Dates - Ein Tisch für zwei
CLASS:PUBLIC
DESCRIPTION:
ORGANIZER:
DTSTAMP:20260420T132912
ATTACH:https://www.hinto.ch/de/events/vox-first-dates-ein-tisch-fuer-zwei-17-04-2026-1800-e2787798-20.html
END:VEVENT
END:VCALENDAR
