BEGIN:VCALENDAR
VERSION:2.0
PRODID:hinto.net
X-PUBLISHED-TTL:P1W
BEGIN:VEVENT
UID:hinto.net-event_show-6881625
DTSTART:20260419T155500
SEQUENCE:0
CREATED:20260404T193058
LAST-MODIFIED:20260404T193058
TRANSP:OPAQUE
DTEND:20260419T170000
LOCATION:
SUMMARY:VOX: Heino - Karamba, Karacho, Kult!
CLASS:PUBLIC
DESCRIPTION:
ORGANIZER:
DTSTAMP:20260419T213804
ATTACH:https://www.hinto.ch/de/events/vox-heino-karamba-karacho-kult!-19-04-2026-1555-e2809343-20.html
END:VEVENT
END:VCALENDAR
