BEGIN:VCALENDAR
VERSION:2.0
PRODID:hinto.net
X-PUBLISHED-TTL:P1W
BEGIN:VEVENT
UID:hinto.net-event_show-6684822
DTSTART:20260425T100000
SEQUENCE:0
CREATED:20260203T101503
LAST-MODIFIED:20260203T101503
TRANSP:OPAQUE
DTEND:20260425T220000
LOCATION:Kirchplatz Salgesch
SUMMARY:Weinfrühling
CLASS:PUBLIC
DESCRIPTION:
ORGANIZER:
DTSTAMP:20260421T063210
ATTACH:https://www.hinto.ch/de/events/weinfruehling-25-04-2026-1000-kirchplatz-salgesch-salgesch-e2653079-20.html
END:VEVENT
END:VCALENDAR
