BEGIN:VCALENDAR
VERSION:2.0
PRODID:hinto.net
X-PUBLISHED-TTL:P1W
BEGIN:VEVENT
UID:hinto.net-event_show-4694046
DTSTART:20270404T100000
SEQUENCE:0
CREATED:20240825T111258
LAST-MODIFIED:20240825T111258
TRANSP:OPAQUE
DTEND:20270404T170000
LOCATION:Naturhistorisches Museum der Burgergemeinde Bern
SUMMARY:Wunderkammer - Die Schausammlung
CLASS:PUBLIC
DESCRIPTION:
ORGANIZER:
DTSTAMP:20260424T214348
ATTACH:https://www.hinto.ch/de/events/wunderkammer-die-schausammlung-04-04-2027-1000-naturhistorisches-museum-der-burgergemeinde-bern-bern-e73660-20.html
END:VEVENT
END:VCALENDAR
