BEGIN:VCALENDAR
VERSION:2.0
PRODID:hinto.net
X-PUBLISHED-TTL:P1W
BEGIN:VEVENT
UID:hinto.net-event_show-6758042
DTSTART:20260630T180000
SEQUENCE:0
CREATED:20260228T051232
LAST-MODIFIED:20260228T051232
TRANSP:OPAQUE
DTEND:20260630T210000
LOCATION:Seepromenade
SUMMARY:Zug Magic
CLASS:PUBLIC
DESCRIPTION:
ORGANIZER:
DTSTAMP:20260420T164908
ATTACH:https://www.hinto.ch/de/events/zug-magic-30-06-2026-1800-seepromenade-zug-e2707909-20.html
END:VEVENT
END:VCALENDAR
