BEGIN:VCALENDAR
VERSION:2.0
PRODID:hinto.net
X-PUBLISHED-TTL:P1W
BEGIN:VEVENT
UID:hinto.net-event_show-6924793
DTSTART:20260424T200000
SEQUENCE:0
CREATED:20260419T051743
LAST-MODIFIED:20260419T051743
TRANSP:OPAQUE
DTEND:20260424T214500
LOCATION:Theater Matte
SUMMARY:Zurück auf Anfang
CLASS:PUBLIC
DESCRIPTION:
ORGANIZER:
DTSTAMP:20260421T081511
ATTACH:https://www.hinto.ch/de/events/zurueck-auf-anfang-24-04-2026-2000-theater-matte-bern-e2844685-20.html
END:VEVENT
END:VCALENDAR
