BEGIN:VCALENDAR
VERSION:2.0
PRODID:hinto.net
X-PUBLISHED-TTL:P1W
BEGIN:VEVENT
UID:hinto.net-event_show-6941966
DTSTART:20260426T170000
SEQUENCE:0
CREATED:20260423T032135
LAST-MODIFIED:20260423T032135
TRANSP:OPAQUE
DTEND:20260426T184500
LOCATION:Theater Matte
SUMMARY:Zurück auf Anfang
CLASS:PUBLIC
DESCRIPTION:
ORGANIZER:
DTSTAMP:20260424T144823
ATTACH:https://www.hinto.ch/de/events/zurueck-auf-anfang-26-04-2026-1700-theater-matte-bern-e2844685-20.html
END:VEVENT
END:VCALENDAR
