BEGIN:VCALENDAR
VERSION:2.0
PRODID:hinto.net
X-PUBLISHED-TTL:P1W
BEGIN:VEVENT
UID:hinto.net-event_show-6930695
DTSTART:20260423T200000
SEQUENCE:0
CREATED:20260421T031214
LAST-MODIFIED:20260421T031214
TRANSP:OPAQUE

LOCATION:Nelson Pub
SUMMARY:90’s, 2000’s, Party
CLASS:PUBLIC
DESCRIPTION:
ORGANIZER:
DTSTAMP:20260424T035909
ATTACH:https://www.hinto.ch/de/events/90rs-2000rs-party-23-04-2026-2000-nelson-pub-zuerich-e2852083-20.html
END:VEVENT
END:VCALENDAR
