BEGIN:VCALENDAR
VERSION:2.0
PRODID:hinto.net
X-PUBLISHED-TTL:P1W
BEGIN:VEVENT
UID:hinto.net-event_show-6806738
DTSTART:20260426T220000
SEQUENCE:0
CREATED:20260311T050830
LAST-MODIFIED:20260311T050830
TRANSP:OPAQUE

LOCATION:Bierhübeli
SUMMARY:FORTUNA EHRENFELD
CLASS:PUBLIC
DESCRIPTION:
ORGANIZER:
DTSTAMP:20260424T121729
ATTACH:https://www.hinto.ch/de/events/fortuna-ehrenfeld-26-04-2026-2200-bierhuebeli-bern-e2746588-20.html
END:VEVENT
END:VCALENDAR
