BEGIN:VCALENDAR
VERSION:2.0
PRODID:hinto.net
X-PUBLISHED-TTL:P1W
BEGIN:VEVENT
UID:hinto.net-event_show-6915813
DTSTART:20260530T150000
SEQUENCE:0
CREATED:20260416T041303
LAST-MODIFIED:20260416T041303
TRANSP:OPAQUE

LOCATION:FABRIKculture
SUMMARY:Ateliers Ouverts Elsass / Basel: Performance
CLASS:PUBLIC
DESCRIPTION:
ORGANIZER:
DTSTAMP:20260424T071111
ATTACH:https://www.hinto.ch/de/events/ateliers-ouverts-elsass-basel-performance-30-05-2026-1500-fabrikculture-hegenheim-e2839310-20.html
END:VEVENT
END:VCALENDAR
