BEGIN:VCALENDAR
VERSION:2.0
PRODID:hinto.net
X-PUBLISHED-TTL:P1W
BEGIN:VEVENT
UID:hinto.net-event_show-6814804
DTSTART:20260502T090000
SEQUENCE:0
CREATED:20260314T035544
LAST-MODIFIED:20260314T035544
TRANSP:OPAQUE
DTEND:20260502T170000
LOCATION:EINSTOFFEN Brand Store
SUMMARY:Design Your Glasses
CLASS:PUBLIC
DESCRIPTION:
ORGANIZER:
DTSTAMP:20260424T071140
ATTACH:https://www.hinto.ch/de/events/design-your-glasses-02-05-2026-0900-einstoffen-brand-store-st-gallen-e2753029-20.html
END:VEVENT
END:VCALENDAR
