BEGIN:VCALENDAR
VERSION:2.0
PRODID:hinto.net
X-PUBLISHED-TTL:P1W
BEGIN:VEVENT
UID:hinto.net-event_show-6925298
DTSTART:20260424T163000
SEQUENCE:0
CREATED:20260419T052120
LAST-MODIFIED:20260419T052120
TRANSP:OPAQUE

LOCATION:Dock8
SUMMARY:Hallo Frühling!
CLASS:PUBLIC
DESCRIPTION:
ORGANIZER:
DTSTAMP:20260419T211454
ATTACH:https://www.hinto.ch/de/events/hallo-fruehling!-24-04-2026-1630-dock8-bern-e2847388-20.html
END:VEVENT
END:VCALENDAR
