BEGIN:VCALENDAR
VERSION:2.0
PRODID:hinto.net
X-PUBLISHED-TTL:P1W
BEGIN:VEVENT
UID:hinto.net-event_show-6925718
DTSTART:20260425T140000
SEQUENCE:0
CREATED:20260419T052317
LAST-MODIFIED:20260419T052317
TRANSP:OPAQUE

LOCATION:Espace 100 titres
SUMMARY:Jazz Day 2026  : conférence d'Ivor Malherbe
CLASS:PUBLIC
DESCRIPTION:
ORGANIZER:
DTSTAMP:20260424T122500
ATTACH:https://www.hinto.ch/de/events/jazz-day-2026-conference-divor-malherbe-25-04-2026-1400-espace-100-titres-sierre-e2847659-20.html
END:VEVENT
END:VCALENDAR
