BEGIN:VCALENDAR
VERSION:2.0
PRODID:hinto.net
X-PUBLISHED-TTL:P1W
BEGIN:VEVENT
UID:hinto.net-event_show-6903878
DTSTART:20260424T100000
SEQUENCE:0
CREATED:20260411T114626
LAST-MODIFIED:20260411T114626
TRANSP:OPAQUE

LOCATION:Médiathèque Valais
SUMMARY:Littera-Découverte
CLASS:PUBLIC
DESCRIPTION:
ORGANIZER:
DTSTAMP:20260419T234414
ATTACH:https://www.hinto.ch/de/events/littera-decouverte-24-04-2026-1000-mediatheque-valais-st-maurice-e2829106-20.html
END:VEVENT
END:VCALENDAR
