BEGIN:VCALENDAR
VERSION:2.0
PRODID:hinto.net
X-PUBLISHED-TTL:P1W
BEGIN:VEVENT
UID:hinto.net-event_show-6827211
DTSTART:20261122T160000
SEQUENCE:0
CREATED:20260318T052942
LAST-MODIFIED:20260318T052942
TRANSP:OPAQUE
DTEND:20261122T180000
LOCATION:BAU3
SUMMARY:«zämme-n-es Viehch si»
CLASS:PUBLIC
DESCRIPTION:
ORGANIZER:
DTSTAMP:20260424T061950
ATTACH:https://www.hinto.ch/de/events/lzaemme-n-es-viehch-sir-22-11-2026-1600-bau3-basel-e2763172-20.html
END:VEVENT
END:VCALENDAR
