BEGIN:VCALENDAR
VERSION:2.0
PRODID:hinto.net
X-PUBLISHED-TTL:P1W
BEGIN:VEVENT
UID:hinto.net-event_show-6776442
DTSTART:20260501T190000
SEQUENCE:0
CREATED:20260305T102525
LAST-MODIFIED:20260305T102525
TRANSP:OPAQUE
DTEND:20260501T000000
LOCATION:Parkplatz Spitzwald
SUMMARY:Nocturnowl - Full Moon
CLASS:PUBLIC
DESCRIPTION:
ORGANIZER:
DTSTAMP:20260421T001956
ATTACH:https://www.hinto.ch/de/events/nocturnowl-full-moon-01-05-2026-1900-parkplatz-spitzwald-allschwil-e2732046-20.html
END:VEVENT
END:VCALENDAR
