BEGIN:VCALENDAR
VERSION:2.0
PRODID:hinto.net
X-PUBLISHED-TTL:P1W
BEGIN:VEVENT
UID:hinto.net-event_show-6925479
DTSTART:20260508T200000
SEQUENCE:0
CREATED:20260419T052232
LAST-MODIFIED:20260419T052232
TRANSP:OPAQUE

LOCATION:Bistro Panem
SUMMARY:Richard Köchli Trio
CLASS:PUBLIC
DESCRIPTION:
ORGANIZER:
DTSTAMP:20260424T104631
ATTACH:https://www.hinto.ch/de/events/richard-koechli-trio-08-05-2026-2000-bistro-panem-romanshorn-e2847532-20.html
END:VEVENT
END:VCALENDAR
