BEGIN:VCALENDAR
VERSION:2.0
PRODID:hinto.net
X-PUBLISHED-TTL:P1W
BEGIN:VEVENT
UID:hinto.net-event_show-6924957
DTSTART:20260522T204500
SEQUENCE:0
CREATED:20260419T051937
LAST-MODIFIED:20260419T051937
TRANSP:OPAQUE

LOCATION:Konzertmuschel Stadtgarten
SUMMARY:Sydra
CLASS:PUBLIC
DESCRIPTION:
ORGANIZER:
DTSTAMP:20260424T074244
ATTACH:https://www.hinto.ch/de/events/sydra-22-05-2026-2045-konzertmuschel-stadtgarten-konstanz-e2847242-20.html
END:VEVENT
END:VCALENDAR
