BEGIN:VCALENDAR
VERSION:2.0
PRODID:hinto.net
X-PUBLISHED-TTL:P1W
BEGIN:VEVENT
UID:hinto.net-event_show-6921916
DTSTART:20260419T100000
SEQUENCE:0
CREATED:20260417T071656
LAST-MODIFIED:20260417T071656
TRANSP:OPAQUE
DTEND:20260419T170000
LOCATION:ProRheno AG
SUMMARY:Tag der offenen Tür ARA Basel
CLASS:PUBLIC
DESCRIPTION:
ORGANIZER:
DTSTAMP:20260424T042254
ATTACH:https://www.hinto.ch/de/events/tag-der-offenen-tuer-ara-basel-19-04-2026-1000-prorheno-ag-basel-e2844694-20.html
END:VEVENT
END:VCALENDAR
