BEGIN:VCALENDAR
VERSION:2.0
PRODID:hinto.net
X-PUBLISHED-TTL:P1W
BEGIN:VEVENT
UID:hinto.net-event_show-6702282
DTSTART:20260425T090000
SEQUENCE:0
CREATED:20260210T021238
LAST-MODIFIED:20260210T021238
TRANSP:OPAQUE
DTEND:20260425T123000
LOCATION:Waaghaus
SUMMARY:Veloflohmarkt
CLASS:PUBLIC
DESCRIPTION:
ORGANIZER:
DTSTAMP:20260424T112112
ATTACH:https://www.hinto.ch/de/events/veloflohmarkt-25-04-2026-0900-waaghaus-st-gallen-e2668528-20.html
END:VEVENT
END:VCALENDAR
