BEGIN:VCALENDAR
VERSION:2.0
PRODID:hinto.net
X-PUBLISHED-TTL:P1W
BEGIN:VEVENT
UID:hinto.net-event_show-6907150
DTSTART:20260425T110000
SEQUENCE:0
CREATED:20260413T063835
LAST-MODIFIED:20260413T063835
TRANSP:OPAQUE

LOCATION:La Grenette : Sous les Arcades de la Grenette
SUMMARY:VISITE COMMENTÉE
CLASS:PUBLIC
DESCRIPTION:
ORGANIZER:
DTSTAMP:20260424T145657
ATTACH:https://www.hinto.ch/de/events/visite-commentee-25-04-2026-1100-la-grenette-sous-les-arcades-de-la-grenette-sion-e2832013-20.html
END:VEVENT
END:VCALENDAR
