BEGIN:VCALENDAR
VERSION:2.0
PRODID:hinto.net
X-PUBLISHED-TTL:P1W
BEGIN:VEVENT
UID:hinto.net-event_show-6810334
DTSTART:20260428T193000
SEQUENCE:0
CREATED:20260313T034838
LAST-MODIFIED:20260313T034838
TRANSP:OPAQUE

LOCATION:Konservatorium Bern
SUMMARY:CAMERATA BERN — Albion
CLASS:PUBLIC
DESCRIPTION:
ORGANIZER:
DTSTAMP:20260424T210409
ATTACH:https://www.hinto.ch/de/events/camerata-bern-m-albion-28-04-2026-1930-konservatorium-bern-bern-e2746590-20.html
END:VEVENT
END:VCALENDAR
