BEGIN:VCALENDAR
VERSION:2.0
PRODID:hinto.net
X-PUBLISHED-TTL:P1W
BEGIN:VEVENT
UID:hinto.net-event_show-6929856
DTSTART:20260618T183000
SEQUENCE:0
CREATED:20260420T222244
LAST-MODIFIED:20260420T222244
TRANSP:OPAQUE
DTEND:20260618T200000
LOCATION:Bibliothek Bläsi
SUMMARY:Sharing Stories
CLASS:PUBLIC
DESCRIPTION:
ORGANIZER:
DTSTAMP:20260421T071325
ATTACH:https://www.hinto.ch/de/events/sharing-stories-18-06-2026-1830-bibliothek-blaesi-basel-e2832064-20.html
END:VEVENT
END:VCALENDAR
