BEGIN:VCALENDAR
VERSION:2.0
PRODID:hinto.net
X-PUBLISHED-TTL:P1W
BEGIN:VEVENT
UID:hinto.net-event_show-6930729
DTSTART:20260501T210000
SEQUENCE:0
CREATED:20260421T031228
LAST-MODIFIED:20260421T031228
TRANSP:OPAQUE

LOCATION:Moderne Karussuell Bar
SUMMARY:HAPPY
CLASS:PUBLIC
DESCRIPTION:
ORGANIZER:
DTSTAMP:20260425T041712
ATTACH:https://www.hinto.ch/de/events/happy-01-05-2026-2100-moderne-karussuell-bar-luzern-e2852117-20.html
END:VEVENT
END:VCALENDAR
