BEGIN:VCALENDAR
VERSION:2.0
PRODID:hinto.net
X-PUBLISHED-TTL:P1W
BEGIN:VEVENT
UID:hinto.net-event_show-6930732
DTSTART:20260502T230000
SEQUENCE:0
CREATED:20260421T031229
LAST-MODIFIED:20260421T031229
TRANSP:OPAQUE

LOCATION:Hive Club
SUMMARY:NTO
CLASS:PUBLIC
DESCRIPTION:
ORGANIZER:
DTSTAMP:20260424T174429
ATTACH:https://www.hinto.ch/de/events/nto-02-05-2026-2300-hive-club-zuerich-e2852120-20.html
END:VEVENT
END:VCALENDAR
