BEGIN:VCALENDAR
VERSION:2.0
PRODID:hinto.net
X-PUBLISHED-TTL:P1W
BEGIN:VEVENT
UID:hinto.net-event_show-6930726
DTSTART:20260501T230000
SEQUENCE:0
CREATED:20260421T031226
LAST-MODIFIED:20260421T031226
TRANSP:OPAQUE
DTEND:20260502T040000
LOCATION:club cello
SUMMARY:SPANISH FIESTA
CLASS:PUBLIC
DESCRIPTION:
ORGANIZER:
DTSTAMP:20260421T092254
ATTACH:https://www.hinto.ch/de/events/spanish-fiesta-01-05-2026-2300-club-cello-basel-e2852114-20.html
END:VEVENT
END:VCALENDAR
