BEGIN:VCALENDAR
VERSION:2.0
PRODID:hinto.net
X-PUBLISHED-TTL:P1W
BEGIN:VEVENT
UID:hinto.net-event_show-6847118
DTSTART:20260918T193000
SEQUENCE:0
CREATED:20260324T123849
LAST-MODIFIED:20260324T123849
TRANSP:OPAQUE
DTEND:20260918T000000
LOCATION:
SUMMARY:Circus Knie
CLASS:PUBLIC
DESCRIPTION:
ORGANIZER:
DTSTAMP:20260421T043147
ATTACH:https://www.hinto.ch/de/events/circus-knie-18-09-2026-1930-nyon-e2780260-20.html
END:VEVENT
END:VCALENDAR
