BEGIN:VCALENDAR
VERSION:2.0
PRODID:hinto.net
X-PUBLISHED-TTL:P1W
BEGIN:VEVENT
UID:hinto.net-event_show-6806665
DTSTART:20260426T180000
SEQUENCE:0
CREATED:20260311T050638
LAST-MODIFIED:20260311T050638
TRANSP:OPAQUE
DTEND:20260426T200000
LOCATION:VIDMARHALLEN
SUMMARY:TROPHÄE - Bühnen Bern
CLASS:PUBLIC
DESCRIPTION:
ORGANIZER:
DTSTAMP:20260424T114039
ATTACH:https://www.hinto.ch/de/events/trophaee-buehnen-bern-26-04-2026-1800-vidmarhallen-liebefeld-e2746548-20.html
END:VEVENT
END:VCALENDAR
