BEGIN:VCALENDAR
VERSION:2.0
PRODID:hinto.net
X-PUBLISHED-TTL:P1W
BEGIN:VEVENT
UID:hinto.net-event_show-6941941
DTSTART:20260427T190000
SEQUENCE:0
CREATED:20260423T031922
LAST-MODIFIED:20260423T031922
TRANSP:OPAQUE
DTEND:20260427T220000
LOCATION:Mahogany Hall
SUMMARY:Mondayblues
CLASS:PUBLIC
DESCRIPTION:
ORGANIZER:
DTSTAMP:20260424T224138
ATTACH:https://www.hinto.ch/de/events/mondayblues-27-04-2026-1900-mahogany-hall-bern-e2596113-20.html
END:VEVENT
END:VCALENDAR
