BEGIN:VCALENDAR
VERSION:2.0
PRODID:hinto.net
X-PUBLISHED-TTL:P1W
BEGIN:VEVENT
UID:hinto.net-event_show-6942146
DTSTART:20260426T170000
SEQUENCE:0
CREATED:20260423T032409
LAST-MODIFIED:20260423T032409
TRANSP:OPAQUE

LOCATION:Stadttheater Solothurn
SUMMARY:Suspense
CLASS:PUBLIC
DESCRIPTION:
ORGANIZER:
DTSTAMP:20260424T175148
ATTACH:https://www.hinto.ch/de/events/suspense-26-04-2026-1700-stadttheater-solothurn-solothurn-e2857318-20.html
END:VEVENT
END:VCALENDAR
