BEGIN:VCALENDAR
VERSION:2.0
PRODID:hinto.net
X-PUBLISHED-TTL:P1W
BEGIN:VEVENT
UID:hinto.net-event_show-6646562
DTSTART:20260829T093000
SEQUENCE:0
CREATED:20260122T041331
LAST-MODIFIED:20260122T041331
TRANSP:OPAQUE

LOCATION:Espace 100 titres
SUMMARY:Né pour lire
CLASS:PUBLIC
DESCRIPTION:
ORGANIZER:
DTSTAMP:20260420T004745
ATTACH:https://www.hinto.ch/de/events/ne-pour-lire-29-08-2026-0930-espace-100-titres-sierre-e2618992-20.html
END:VEVENT
END:VCALENDAR
