BEGIN:VCALENDAR
VERSION:2.0
PRODID:hinto.net
X-PUBLISHED-TTL:P1W
BEGIN:VEVENT
UID:hinto.net-event_show-6925424
DTSTART:20260515T230000
SEQUENCE:0
CREATED:20260419T052216
LAST-MODIFIED:20260419T052216
TRANSP:OPAQUE
DTEND:20260515T060000
LOCATION:Albani
SUMMARY:Steibi Fm: Maja
CLASS:PUBLIC
DESCRIPTION:
ORGANIZER:
DTSTAMP:20260419T224806
ATTACH:https://www.hinto.ch/de/events/steibi-fm-maja-15-05-2026-2300-albani-winterthur-e2847488-20.html
END:VEVENT
END:VCALENDAR
