BEGIN:VCALENDAR
VERSION:2.0
PRODID:hinto.net
X-PUBLISHED-TTL:P1W
BEGIN:VEVENT
UID:hinto.net-event_show-6939297
DTSTART:20260606T193000
SEQUENCE:0
CREATED:20260422T162747
LAST-MODIFIED:20260422T162747
TRANSP:OPAQUE
DTEND:20260606T000000
LOCATION:Maienzugplatz
SUMMARY:Zirkus Chnopf - UFE
CLASS:PUBLIC
DESCRIPTION:
ORGANIZER:
DTSTAMP:20260424T113822
ATTACH:https://www.hinto.ch/de/events/zirkus-chnopf-ufe-06-06-2026-1930-maienzugplatz-aarau-e2854690-20.html
END:VEVENT
END:VCALENDAR
