BEGIN:VCALENDAR
VERSION:2.0
PRODID:hinto.net
X-PUBLISHED-TTL:P1W
BEGIN:VEVENT
UID:hinto.net-event_show-6833758
DTSTART:20260420T183000
SEQUENCE:0
CREATED:20260320T071940
LAST-MODIFIED:20260320T071940
TRANSP:OPAQUE
DTEND:20260420T220000
LOCATION:MTM Mutschellen
SUMMARY:BLS-AED-SRC Komplett
CLASS:PUBLIC
DESCRIPTION:
ORGANIZER:
DTSTAMP:20260419T234047
ATTACH:https://www.hinto.ch/de/events/bls-aed-src-komplett-20-04-2026-1830-mtm-mutschellen-berikon-e2768356-20.html
END:VEVENT
END:VCALENDAR
