BEGIN:VCALENDAR
VERSION:2.0
PRODID:hinto.net
X-PUBLISHED-TTL:P1W
BEGIN:VEVENT
UID:hinto.net-event_show-6830223
DTSTART:20260425T220000
SEQUENCE:0
CREATED:20260319T030601
LAST-MODIFIED:20260319T030601
TRANSP:OPAQUE

LOCATION:ISC Club Bern
SUMMARY:Elektro Tolerdance
CLASS:PUBLIC
DESCRIPTION:
ORGANIZER:
DTSTAMP:20260424T173658
ATTACH:https://www.hinto.ch/de/events/elektro-tolerdance-25-04-2026-2200-isc-club-bern-bern-e2765529-20.html
END:VEVENT
END:VCALENDAR
