BEGIN:VCALENDAR
VERSION:2.0
PRODID:hinto.net
X-PUBLISHED-TTL:P1W
BEGIN:VEVENT
UID:hinto.net-event_show-6930035
DTSTART:20260523T200000
SEQUENCE:0
CREATED:20260420T222351
LAST-MODIFIED:20260420T222351
TRANSP:OPAQUE

LOCATION:Cuadro 22
SUMMARY:Gray Release Show
CLASS:PUBLIC
DESCRIPTION:
ORGANIZER:
DTSTAMP:20260421T043131
ATTACH:https://www.hinto.ch/de/events/gray-release-show-23-05-2026-2000-cuadro-22-chur-e2851857-20.html
END:VEVENT
END:VCALENDAR
