BEGIN:VCALENDAR
VERSION:2.0
PRODID:hinto.net
X-PUBLISHED-TTL:P1W
BEGIN:VEVENT
UID:hinto.net-event_show-6830225
DTSTART:20260427T120000
SEQUENCE:0
CREATED:20260319T030602
LAST-MODIFIED:20260319T030602
TRANSP:OPAQUE

LOCATION:CineMovie
SUMMARY:LUNCHKINO: PRIMAVERA
CLASS:PUBLIC
DESCRIPTION:
ORGANIZER:
DTSTAMP:20260424T155217
ATTACH:https://www.hinto.ch/de/events/lunchkino-primavera-27-04-2026-1200-cinemovie-bern-e2765531-20.html
END:VEVENT
END:VCALENDAR
