BEGIN:VCALENDAR
VERSION:2.0
PRODID:hinto.net
X-PUBLISHED-TTL:P1W
BEGIN:VEVENT
UID:hinto.net-event_show-6933556
DTSTART:20260425T203000
SEQUENCE:0
CREATED:20260422T052507
LAST-MODIFIED:20260422T052507
TRANSP:OPAQUE

LOCATION:Église du Pasquart
SUMMARY:Trëi
CLASS:PUBLIC
DESCRIPTION:
ORGANIZER:
DTSTAMP:20260424T144927
ATTACH:https://www.hinto.ch/de/events/trei-25-04-2026-2030-eglise-du-pasquart-biel-bienne-e2854517-20.html
END:VEVENT
END:VCALENDAR
