BEGIN:VCALENDAR
VERSION:2.0
PRODID:hinto.net
X-PUBLISHED-TTL:P1W
BEGIN:VEVENT
UID:hinto.net-event_show-6933275
DTSTART:20260509T220000
SEQUENCE:0
CREATED:20260422T052150
LAST-MODIFIED:20260422T052150
TRANSP:OPAQUE
DTEND:20260510T080000
LOCATION:Supermarket
SUMMARY:Camouflage Regular
CLASS:PUBLIC
DESCRIPTION:
ORGANIZER:
DTSTAMP:20260424T205321
ATTACH:https://www.hinto.ch/de/events/camouflage-regular-09-05-2026-2200-supermarket-zuerich-e2854453-20.html
END:VEVENT
END:VCALENDAR
