BEGIN:VCALENDAR
VERSION:2.0
PRODID:hinto.net
X-PUBLISHED-TTL:P1W
BEGIN:VEVENT
UID:hinto.net-event_show-6807172
DTSTART:20270905T220000
SEQUENCE:0
CREATED:20260312T031732
LAST-MODIFIED:20260312T031732
TRANSP:OPAQUE
DTEND:20270906T013000
LOCATION:Klangkeller Bern
SUMMARY:Klang-Meditation
CLASS:PUBLIC
DESCRIPTION:
ORGANIZER:
DTSTAMP:20260425T044504
ATTACH:https://www.hinto.ch/de/events/klang-meditation-05-09-2027-2200-klangkeller-bern-bern-e1650551-20.html
END:VEVENT
END:VCALENDAR
