BEGIN:VCALENDAR
VERSION:2.0
PRODID:hinto.net
X-PUBLISHED-TTL:P1W
BEGIN:VEVENT
UID:hinto.net-event_show-6862885
DTSTART:20260419T190800
SEQUENCE:0
CREATED:20260329T151301
LAST-MODIFIED:20260329T151301
TRANSP:OPAQUE
DTEND:20260419T191000
LOCATION:
SUMMARY:3Sat: 3sat-Wetter
CLASS:PUBLIC
DESCRIPTION:
ORGANIZER:
DTSTAMP:20260420T090805
ATTACH:https://www.hinto.ch/de/events/3sat-3sat-wetter-19-04-2026-1908-e2793501-20.html
END:VEVENT
END:VCALENDAR
