BEGIN:VCALENDAR
VERSION:2.0
PRODID:hinto.net
X-PUBLISHED-TTL:P1W
BEGIN:VEVENT
UID:hinto.net-event_show-6862881
DTSTART:20260419T161500
SEQUENCE:0
CREATED:20260329T151256
LAST-MODIFIED:20260329T151256
TRANSP:OPAQUE
DTEND:20260419T170000
LOCATION:
SUMMARY:3Sat: Faszination Österreich: Die Steiermark
CLASS:PUBLIC
DESCRIPTION:
ORGANIZER:
DTSTAMP:20260424T052230
ATTACH:https://www.hinto.ch/de/events/3sat-faszination-oesterreich-die-steiermark-19-04-2026-1615-e2793497-20.html
END:VEVENT
END:VCALENDAR
