BEGIN:VCALENDAR
VERSION:2.0
PRODID:hinto.net
X-PUBLISHED-TTL:P1W
BEGIN:VEVENT
UID:hinto.net-event_show-6862884
DTSTART:20260419T190000
SEQUENCE:0
CREATED:20260329T151300
LAST-MODIFIED:20260329T151300
TRANSP:OPAQUE
DTEND:20260419T190800
LOCATION:
SUMMARY:3Sat: heute
CLASS:PUBLIC
DESCRIPTION:
ORGANIZER:
DTSTAMP:20260420T045254
ATTACH:https://www.hinto.ch/de/events/3sat-heute-19-04-2026-1900-e2793500-20.html
END:VEVENT
END:VCALENDAR
