BEGIN:VCALENDAR
VERSION:2.0
PRODID:hinto.net
X-PUBLISHED-TTL:P1W
BEGIN:VEVENT
UID:hinto.net-event_show-6916441
DTSTART:20260417T021500
SEQUENCE:0
CREATED:20260416T225558
LAST-MODIFIED:20260416T225558
TRANSP:OPAQUE
DTEND:20260417T060000
LOCATION:
SUMMARY:4+: Susi.live
CLASS:PUBLIC
DESCRIPTION:
ORGANIZER:
DTSTAMP:20260419T224500
ATTACH:https://www.hinto.ch/de/events/4+-susi-live-17-04-2026-0215-e2839398-20.html
END:VEVENT
END:VCALENDAR
