BEGIN:VCALENDAR
VERSION:2.0
PRODID:hinto.net
X-PUBLISHED-TTL:P1W
BEGIN:VEVENT
UID:hinto.net-event_show-6663777
DTSTART:20261111T203000
SEQUENCE:0
CREATED:20260128T032413
LAST-MODIFIED:20260128T032413
TRANSP:OPAQUE

LOCATION:Werk 1
SUMMARY:Adenite
CLASS:PUBLIC
DESCRIPTION:
ORGANIZER:
DTSTAMP:20260419T202049
ATTACH:https://www.hinto.ch/de/events/adenite-11-11-2026-2030-werk-1-gossau-sg-e2634098-20.html
END:VEVENT
END:VCALENDAR
