BEGIN:VCALENDAR
VERSION:2.0
PRODID:hinto.net
X-PUBLISHED-TTL:P1W
BEGIN:VEVENT
UID:hinto.net-event_show-6925453
DTSTART:20260502T220000
SEQUENCE:0
CREATED:20260419T052226
LAST-MODIFIED:20260419T052226
TRANSP:OPAQUE

LOCATION:Kulturzentrum Presswerk
SUMMARY:Alle Farben
CLASS:PUBLIC
DESCRIPTION:
ORGANIZER:
DTSTAMP:20260424T051631
ATTACH:https://www.hinto.ch/de/events/alle-farben-02-05-2026-2200-kulturzentrum-presswerk-arbon-e2847512-20.html
END:VEVENT
END:VCALENDAR
